BEGIN:VCALENDAR
VERSION:2.0
PRODID:-//Dog, Cat, Pet Adoption, Animal Shelter in Buffalo - ECPv6.15.16//NONSGML v1.0//EN
CALSCALE:GREGORIAN
METHOD:PUBLISH
X-WR-CALNAME:Dog, Cat, Pet Adoption, Animal Shelter in Buffalo
X-ORIGINAL-URL:https://yourspca.org
X-WR-CALDESC:Events for Dog, Cat, Pet Adoption, Animal Shelter in Buffalo
REFRESH-INTERVAL;VALUE=DURATION:PT1H
X-Robots-Tag:noindex
X-PUBLISHED-TTL:PT1H
BEGIN:VTIMEZONE
TZID:UTC
BEGIN:STANDARD
TZOFFSETFROM:+0000
TZOFFSETTO:+0000
TZNAME:UTC
DTSTART:20190101T000000
END:STANDARD
END:VTIMEZONE
BEGIN:VEVENT
DTSTART;TZID=UTC:20201213T100000
DTEND;TZID=UTC:20201213T140000
DTSTAMP:20260421T212634
CREATED:20201201T002917Z
LAST-MODIFIED:20201201T002917Z
UID:9511-1607853600-1607868000@yourspca.org
SUMMARY:Santa Loves Dogs
DESCRIPTION:Santa is coming to Mister Christmas gift boutique at the Eastern Hills Mall to visit with your good doggie. Bring your pooch to meet Santa and have them tell him what they want for Christmas while you take your own picture. Reservations will be given for hourly time slots where you cue to see Santa. \nA minimum of $10 donation is suggested for each sitting with all proceeds to benefit the SPCA Serving Erie County.\n\nAlthough all dogs are good\, for your little buddy to be considered for the nice list their handlers must be able to vouch for their good behavior. Dogs will be screened by professionals upon arrival and will be asked to leave for exhibiting any inappropriate behavior.
URL:https://yourspca.org/events-calendar/santa-loves-dogs/
LOCATION:Mister Christmas – Eastern Hills Mall\, 4545 Transit Rd\, Williamsville\, NY\, 14221\, United States
END:VEVENT
BEGIN:VEVENT
DTSTART;TZID=UTC:20201209T060000
DTEND;TZID=UTC:20201209T180000
DTSTAMP:20260421T212634
CREATED:20201203T233549Z
LAST-MODIFIED:20201203T233549Z
UID:9584-1607493600-1607536800@yourspca.org
SUMMARY:SPCA Radiothon 2020
DESCRIPTION:Click the image below for all the exciting 2020 Radiothon details!
URL:https://yourspca.org/events-calendar/spca-radiothon-2020/
LOCATION:NY
END:VEVENT
BEGIN:VEVENT
DTSTART;TZID=UTC:20201204T080000
DTEND;TZID=UTC:20201212T120000
DTSTAMP:20260421T212634
CREATED:20201205T023335Z
LAST-MODIFIED:20201205T023335Z
UID:9621-1607068800-1607774400@yourspca.org
SUMMARY:Win SPCA Christmas Tree
DESCRIPTION:Read how you can win this SPCA Christmas tree\, “Santa’s Elves See EVERYTHING\,” and participate in a Very Merry West Seneca by clicking the picture below!
URL:https://yourspca.org/events-calendar/win-spca-christmas-tree/
LOCATION:NY
END:VEVENT
BEGIN:VEVENT
DTSTART;TZID=UTC:20201118T080000
DTEND;TZID=UTC:20201118T170000
DTSTAMP:20260421T212634
CREATED:20201028T235531Z
LAST-MODIFIED:20201028T235531Z
UID:9085-1605686400-1605718800@yourspca.org
SUMMARY:Parvo Clinic 2020
DESCRIPTION:
URL:https://yourspca.org/events-calendar/parvo-clinic-2020/
LOCATION:Lipsey Clinic at the SPCA Serving Erie County\, 300 Harlem Road\, West Seneca\, NY\, 14224
ORGANIZER;CN="Lipsey Clinic at the SPCA Serving Erie County":MAILTO:parvoclinic@yourspca.org
END:VEVENT
BEGIN:VEVENT
DTSTART;TZID=UTC:20201101T080000
DTEND;TZID=UTC:20201130T210000
DTSTAMP:20260421T212634
CREATED:20201030T010543Z
LAST-MODIFIED:20201030T010543Z
UID:9119-1604217600-1606770000@yourspca.org
SUMMARY:Round UP at Just Pizza
DESCRIPTION:Click on the image below to find out how Just Pizza & Wing Co. in Amherst is encouraging you to BE THE CHANGE IN AN ANIMAL’S LIFE!
URL:https://yourspca.org/events-calendar/round-up-at-just-pizza/
LOCATION:Just Pizza\, Just Pizza\, 2319 Niagara Falls Blvd.\, Amherst\, NY\, 14228
END:VEVENT
BEGIN:VEVENT
DTSTART;TZID=UTC:20201101T080000
DTEND;TZID=UTC:20201111T170000
DTSTAMP:20260421T212634
CREATED:20201015T204329Z
LAST-MODIFIED:20201021T212058Z
UID:8810-1604217600-1605114000@yourspca.org
SUMMARY:Vets and Pets
DESCRIPTION:SEE ADOPTABLE ANIMALS>>\nSEE OFFSITE ADOPTION LOCATIONS >>
URL:https://yourspca.org/events-calendar/vets-and-pets-november-2020/
LOCATION:SPCA\, 300 Harlem Rd.\, West Seneca 14224 and all SPCA off-site adoption locations
END:VEVENT
BEGIN:VEVENT
DTSTART;TZID=UTC:20201030T183000
DTEND;TZID=UTC:20201031T200000
DTSTAMP:20260421T212634
CREATED:20201030T170738Z
LAST-MODIFIED:20201030T170738Z
UID:9144-1604082600-1604174400@yourspca.org
SUMMARY:Lancaster Haunted Garage
DESCRIPTION:Check out the Lancaster Haunted Garage! \nFriday\, October 30\, 6:30-8:30 p.m.\nSaturday\, Halloween Night 6-8:30 p.m. \n496 Pleasant View Drive\, Lancaster NY \nAdmission is Free. Any donations will be given to SPCA of Erie County. \nThe garage is fun for children and adults.\nSocial distancing and masks required. Safe treats distribution. \nFor more information please visit: http://www.lancasterhauntedgarage.com/
URL:https://yourspca.org/events-calendar/lancaster-haunted-garage/
LOCATION:496 Pleasant View Drive\, Lancaster\, NY 14086\, 496 Pleasant View Drive\, Lancaster\, NY\, 14086
END:VEVENT
BEGIN:VEVENT
DTSTART;TZID=UTC:20201026T110000
DTEND;TZID=UTC:20201031T170000
DTSTAMP:20260421T212634
CREATED:20201023T220816Z
LAST-MODIFIED:20201023T220816Z
UID:8997-1603710000-1604163600@yourspca.org
SUMMARY:Scary-Good Spine-Tingling Cat Sale
DESCRIPTION:See our Bewitching Beauties here >> \nSee our Offsite Adoption Locations here >>
URL:https://yourspca.org/events-calendar/scary-good-spine-tingling-cat-sale/
LOCATION:SPCA\, 300 Harlem Rd.\, West Seneca 14224 and all SPCA off-site adoption locations
END:VEVENT
BEGIN:VEVENT
DTSTART;TZID=UTC:20201008T080000
DTEND;TZID=UTC:20210606T170000
DTSTAMP:20260421T212634
CREATED:20201009T050244Z
LAST-MODIFIED:20201009T050733Z
UID:8741-1602144000-1622998800@yourspca.org
SUMMARY:Tale for Two
DESCRIPTION:CHILDREN READING TO SHELTER PETS!\nClick the image below for more information on\nTale for Two’s in-person and virtual reading sessions!
URL:https://yourspca.org/events-calendar/tale-for-two/
LOCATION:SPCA\, 300 Harlem Rd.\, West Seneca\, NY 14224
ORGANIZER;CN="Humane Education Dep't.%2C SPCA":MAILTO:christined@yourspca.org
END:VEVENT
BEGIN:VEVENT
DTSTART;TZID=UTC:20201007T080000
DTEND;TZID=UTC:20201231T170000
DTSTAMP:20260421T212634
CREATED:20201009T045124Z
LAST-MODIFIED:20201009T045341Z
UID:8735-1602057600-1609434000@yourspca.org
SUMMARY:SPCA-To-Go Backpacks
DESCRIPTION:Click the image below for more information on\nSPCA-To-Go Backpacks!
URL:https://yourspca.org/events-calendar/spca-to-go-backpacks/
LOCATION:SPCA\, 300 Harlem Rd.\, West Seneca\, NY 14224
ORGANIZER;CN="Humane Education Dep't.%2C SPCA":MAILTO:christined@yourspca.org
END:VEVENT
BEGIN:VEVENT
DTSTART;TZID=UTC:20201001T110000
DTEND;TZID=UTC:20201031T170000
DTSTAMP:20260421T212634
CREATED:20200923T223533Z
LAST-MODIFIED:20200930T212342Z
UID:8530-1601550000-1604163600@yourspca.org
SUMMARY:Subaru Loves Pets
DESCRIPTION:Click on the image below for details!
URL:https://yourspca.org/events-calendar/subaru-loves-pets/
LOCATION:SPCA\, 300 Harlem Rd.\, West Seneca 14224 and all SPCA off-site adoption locations
END:VEVENT
BEGIN:VEVENT
DTSTART;TZID=UTC:20200630T080000
DTEND;TZID=UTC:20200831T170000
DTSTAMP:20260421T212634
CREATED:20200618T231049Z
LAST-MODIFIED:20200626T220545Z
UID:7591-1593504000-1598893200@yourspca.org
SUMMARY:Camp-KindnessCampCONNECT
DESCRIPTION:IT’S THE SPCA’s VIRTUAL SUMMER CAMP 2020!\nCLICK THE IMAGE BELOW TO CONNECT WITH \n“KindnessCampCONNECT!“\n\n 
URL:https://yourspca.org/events-calendar/kindnesscampconnect/
LOCATION:Virtual
END:VEVENT
BEGIN:VEVENT
DTSTART;VALUE=DATE:20200609
DTEND;VALUE=DATE:20200901
DTSTAMP:20260421T212634
CREATED:20200617T184441Z
LAST-MODIFIED:20200617T184441Z
UID:7540-1591660800-1598918399@yourspca.org
SUMMARY:Auctions For Animals
DESCRIPTION:This event is completely virtual and can be accessed through Facebook! Click the link below to be admitted into the group! Items will be listed for auction\, with purchase-able spots ranging from 10-40 with price tags of anywhere between $1-$35 a spot depending on the value of the item. Each item will sell out for about $25-$200 over market value\, again depending on value. \nFacebook Live Drawings will be held 2 times a week\, or more if need be. Once all winners are announced\, they will send me their shipping info and your item will come directly to your home!! \n100%\, of the profits from this page\, will be donated to the SPCA Serving Erie County!
URL:https://yourspca.org/events-calendar/auctions-for-animals/
LOCATION:NY
END:VEVENT
BEGIN:VEVENT
DTSTART;TZID=UTC:20200426T120000
DTEND;TZID=UTC:20200426T170000
DTSTAMP:20260421T212634
CREATED:20190202T013422Z
LAST-MODIFIED:20200318T190936Z
UID:3029-1587902400-1587920400@yourspca.org
SUMMARY:Paws at the Pub
DESCRIPTION:**CANCELLED ** \n\n\n(Paws at the Pub has been postponed…check back for an upcoming date!)\nBUFFALO BREWS\nMUSIC  *  TASTY FOOD\nGREAT DRINKS  *  EXCITING RAFFLES\nHELPING HOMELESS PETS IN NEED!\n\nJoin us at the Buffalo Brewpub for PAWS AT THE PUB\, to benefit the SPCA Serving Erie County!\nEvent sponsor: Tommy Rotter Distillery\nGuest bartenders: Community Beer Works \n  \nCountry 106.5 WYRK\, #1 for Buffalo’s New Country\, will be on hand\n12 p.m.-2 p.m. to meet and greet patrons! \nSilent auction items include tickets to a Toronto Blue Jays vs. New York Yankees baseball game\, Taste of Country tickets\, and much more! \nThis is a free event\, open to all ages\, and is a PET-FREE event!\nCome for a little while\, or stay the whole time! Food and beverages are available for purchase! \nFor more information\, visit the Buffalo Brewpub at 6861 Main Street\, Williamsville\, NY 14221 or call the SPCA’s Caitlin at 716-875-7360 ext. 230. \n   \n   \n \n 
URL:https://yourspca.org/events-calendar/paws-at-the-pub/
LOCATION:Buffalo Brewpub\, Main St. near Transit Rd.\, Williamsville\, NY
END:VEVENT
BEGIN:VEVENT
DTSTART;TZID=UTC:20200421T103000
DTEND;TZID=UTC:20200421T113000
DTSTAMP:20260421T212634
CREATED:20200229T001350Z
LAST-MODIFIED:20200312T231646Z
UID:6158-1587465000-1587468600@yourspca.org
SUMMARY:Furry Tales Preschool
DESCRIPTION:*CANCELLED*\n\nRegister children 2-4 for Furry Tales Preschool today by clicking the image below\, or by visiting  https://campscui.active.com/orgs/ErieCountySPCA?season=2772708
URL:https://yourspca.org/events-calendar/furry-tales-preschool-2/
LOCATION:NY
END:VEVENT
BEGIN:VEVENT
DTSTART;TZID=UTC:20200413T090000
DTEND;TZID=UTC:20200417T160000
DTSTAMP:20260421T212634
CREATED:20190830T225936Z
LAST-MODIFIED:20200312T232157Z
UID:4640-1586768400-1587139200@yourspca.org
SUMMARY:SPCA Break Camp 4/13-17/2020
DESCRIPTION:March 12\, 2020: Program cancelled in response to COVID-19 health concerns\nSEE ALL THE CAMP INFORMATION AND REGISTER YOUR CHILD BY CLICKING THE IMAGE BELOW! \nSingle-day registration available!
URL:https://yourspca.org/events-calendar/spca-break-camp-4-13-17-2020/
LOCATION:SPCA\, 300 Harlem Rd.\, West Seneca\, NY 14224
ORGANIZER;CN="Humane Education Dep't.%2C SPCA":MAILTO:christined@yourspca.org
END:VEVENT
BEGIN:VEVENT
DTSTART;TZID=UTC:20200401T080000
DTEND;TZID=UTC:20200830T170000
DTSTAMP:20260421T212634
CREATED:20200401T012136Z
LAST-MODIFIED:20200401T012614Z
UID:6496-1585728000-1598806800@yourspca.org
SUMMARY:REVISED Poster/Creative Writing Contest
DESCRIPTION:Humane Poster & Creative Writing Contest:\nREVISED! \n\n\n\n\n\n\n\n \n\n\n*NEW*\nInformation on our REVISED 2020 contest is here >> \nSubmissions and nomination letters must be received by the SPCA no later than\nAugust 31\, 2020! And now submissions can be made DIGITALLY at bit.ly/2WWzm06 ! \nSubmissions can also be dropped off at the SPCA Serving Erie County\,\n300 Harlem Rd.\, West Seneca\, NY.\nNOTE: During the SPCA’s COVID Response period\, an appointment to drop off children’s submissions will be necessary. To make an appointment\, please call 716-875-7360 and press 0 Monday through Saturday after 8 a.m. \nTo learn more about this contest\, contact Christine at christined@yourspca.org or 716-875-7360\, ext. 262. \n\n\n\n\n\n\n\n\n\n 
URL:https://yourspca.org/events-calendar/revised-poster-creative-writing-contest/
LOCATION:NY
ORGANIZER;CN="Humane Education Dep't.%2C SPCA":MAILTO:christined@yourspca.org
END:VEVENT
BEGIN:VEVENT
DTSTART;TZID=UTC:20200328T190000
DTEND;TZID=UTC:20200328T220000
DTSTAMP:20260421T212634
CREATED:20190206T005904Z
LAST-MODIFIED:20200316T170139Z
UID:3096-1585422000-1585432800@yourspca.org
SUMMARY:Elvis Forever
DESCRIPTION:*CANCELLED*
URL:https://yourspca.org/events-calendar/elvis-forever/
LOCATION:Elks Lodge\, 33 Legion Pkwy\, Lancaster\, NY\, 14086\, United States
END:VEVENT
BEGIN:VEVENT
DTSTART;TZID=UTC:20200326T173000
DTEND;TZID=UTC:20200326T193000
DTSTAMP:20260421T212634
CREATED:20200309T233114Z
LAST-MODIFIED:20200309T233345Z
UID:6218-1585243800-1585251000@yourspca.org
SUMMARY:Rotary Club of Buffalo's Happy Tails Happy Hour
DESCRIPTION:
URL:https://yourspca.org/events-calendar/rotary-club-of-buffalos-happy-tails-happy-hour/
LOCATION:Resurgence Brewery\, 55 Chicago Street\, Buffalo\, NY\, 14204\, United States
END:VEVENT
BEGIN:VEVENT
DTSTART;TZID=UTC:20200323T180000
DTEND;TZID=UTC:20200323T193000
DTSTAMP:20260421T212634
CREATED:20200214T005458Z
LAST-MODIFIED:20200316T170033Z
UID:5958-1584986400-1584991800@yourspca.org
SUMMARY:Understanding Your Cat: DISCOUNT!
DESCRIPTION:*CANCELLED* \nTO REGISTER*\, CLICK ON THE IMAGE BELOW!\n(Please note that the discount code CATSGONEWILD must be capitalized.)\n \nREGISTER HERE* for THE FURRY ALIEN IN YOUR HOME: Understanding Your Cat~\n      with SPCA Cat Behavior Consultant Cary Munschauer**! \n*Problems with registration?\nContact our Humane Education Department:\n716-875-7360\, ext. 262 \n** And check out Cary’s credentials:\n-Certified Cat Behavior Consultant\n-International Association of Animal Behavior Consultants\, affiliate level\n-Humane Society of the United States cat retention counselor\n-SPCA AdvoCAT\n–Fear-Free Shelter-certified\n-Trainer/mentor for Jackson Galaxy Cat Pawsitive Program\n-Behavior support counselor for Wyoming County SPCA
URL:https://yourspca.org/events-calendar/understanding-your-cat-discount/
LOCATION:SPCA\, 300 Harlem Rd.\, West Seneca\, NY 14224
ORGANIZER;CN="Humane Education Dep't.%2C SPCA":MAILTO:christined@yourspca.org
END:VEVENT
BEGIN:VEVENT
DTSTART;TZID=UTC:20200317T180000
DTEND;TZID=UTC:20200317T193000
DTSTAMP:20260421T212634
CREATED:20200304T050445Z
LAST-MODIFIED:20200312T231618Z
UID:6187-1584468000-1584473400@yourspca.org
SUMMARY:Cub Scout Workshop
DESCRIPTION:*CANCELLED*\nClick on the image below for more information!
URL:https://yourspca.org/events-calendar/cub-scout-workshop/
LOCATION:NY
END:VEVENT
BEGIN:VEVENT
DTSTART;TZID=UTC:20200311T180000
DTEND;TZID=UTC:20200311T190000
DTSTAMP:20260421T212634
CREATED:20200204T013529Z
LAST-MODIFIED:20200204T013620Z
UID:5898-1583949600-1583953200@yourspca.org
SUMMARY:Tonawanda Library Presentation
DESCRIPTION:
URL:https://yourspca.org/events-calendar/spca-library-presentation-3-11-2020/
LOCATION:NY
ORGANIZER;CN="Humane Education Dep't.%2C SPCA":MAILTO:christined@yourspca.org
END:VEVENT
BEGIN:VEVENT
DTSTART;TZID=UTC:20200311T110000
DTEND;TZID=UTC:20200314T180000
DTSTAMP:20260421T212634
CREATED:20180112T205720Z
LAST-MODIFIED:20200208T005341Z
UID:969-1583924400-1584208800@yourspca.org
SUMMARY:Cats Like Treats!
DESCRIPTION:Community members may visit Cats Like Us in Tonawanda and bring in treats and other items from the SPCA Wishlist. For each item they bring in\, they will receive 5% off of their purchase\, up to 25% off. For example\, 1 blanket= 5%\, 2 blankets and a toy=15%. All of the items collected will be dropped off to the SPCA.
URL:https://yourspca.org/events-calendar/cats-like-treats/
LOCATION:NY
END:VEVENT
BEGIN:VEVENT
DTSTART;TZID=UTC:20200310T103000
DTEND;TZID=UTC:20200310T113000
DTSTAMP:20260421T212634
CREATED:20200229T001312Z
LAST-MODIFIED:20200229T001312Z
UID:6156-1583836200-1583839800@yourspca.org
SUMMARY:Furry Tales Preschool
DESCRIPTION:Register children 2-4 for Furry Tales Preschool today by clicking the image below\, or by visiting  https://campscui.active.com/orgs/ErieCountySPCA?season=2772708
URL:https://yourspca.org/events-calendar/furry-tales-preschool/
LOCATION:NY
END:VEVENT
BEGIN:VEVENT
DTSTART;TZID=UTC:20200228T080000
DTEND;TZID=UTC:20200331T233000
DTSTAMP:20260421T212634
CREATED:20200229T011913Z
LAST-MODIFIED:20200229T011913Z
UID:6161-1582876800-1585697400@yourspca.org
SUMMARY:Summer Camp DISCOUNT
DESCRIPTION:SPCA SUMMER CAMP 2020\nRegister your children ages 6-14 today: http://YourSPCA.org/SummerCamp2020 . \nEarly-bird discount ends March 31.
URL:https://yourspca.org/events-calendar/summer-camp-discount/
LOCATION:NY
END:VEVENT
BEGIN:VEVENT
DTSTART;TZID=UTC:20200224T180000
DTEND;TZID=UTC:20200224T190000
DTSTAMP:20260421T212634
CREATED:20200128T215218Z
LAST-MODIFIED:20200217T235517Z
UID:5758-1582567200-1582570800@yourspca.org
SUMMARY:PET Talks - The History of the SPCA Serving Erie County
DESCRIPTION:POSTPONED!\nThis event has been postponed. To find out when The History of the SPCA will be rescheduled\, please contact our Humane Education Department: 716-875-7360\, ext. 262.\nTO REGISTER FOR PET: THE HISTORY OF THE SPCA\, PLEASE CLICK ON THE IMAGE BELOW! \nProblems with registration? Please contact our Humane Education Department: 716-875-7360\, ext. 262.
URL:https://yourspca.org/events-calendar/pet-talks-the-history-of-the-spca-serving-erie-county/
LOCATION:NY
END:VEVENT
BEGIN:VEVENT
DTSTART;TZID=UTC:20200217T090000
DTEND;TZID=UTC:20200221T160000
DTSTAMP:20260421T212634
CREATED:20190830T225705Z
LAST-MODIFIED:20190830T225831Z
UID:4636-1581930000-1582300800@yourspca.org
SUMMARY:SPCA Break Camp 2/17-21/20
DESCRIPTION:SEE ALL THE CAMP INFORMATION AND REGISTER YOUR CHILD BY CLICKING THE IMAGE BELOW! \nSingle-day registration available!
URL:https://yourspca.org/events-calendar/spca-break-camp-2-17-21-20/
LOCATION:SPCA\, 300 Harlem Rd.\, West Seneca\, NY 14224
ORGANIZER;CN="Humane Education Dep't.%2C SPCA":MAILTO:christined@yourspca.org
END:VEVENT
BEGIN:VEVENT
DTSTART;TZID=UTC:20200208T093000
DTEND;TZID=UTC:20200208T110000
DTSTAMP:20260421T212634
CREATED:20200128T000544Z
LAST-MODIFIED:20200207T001049Z
UID:5712-1581154200-1581159600@yourspca.org
SUMMARY:Wake Up with Wildlife: GOING BATTY!
DESCRIPTION:GO BATTY with us Saturday morning\, February 8!\nRegister here\, or by clicking the image below!\nSee “Bat Fast Facts” with WGRZ-TV Ch. 2’s\nKevin O’Neill here!
URL:https://yourspca.org/events-calendar/going-batty-wake-up-with-wildlife-feb-8-2020/
LOCATION:SPCA\, 300 Harlem Rd.\, West Seneca\, NY 14224
END:VEVENT
BEGIN:VEVENT
DTSTART;TZID=UTC:20200204T163000
DTEND;TZID=UTC:20200204T190000
DTSTAMP:20260421T212634
CREATED:20200107T232337Z
LAST-MODIFIED:20200107T232337Z
UID:5545-1580833800-1580842800@yourspca.org
SUMMARY:Tale for Two: kids & shelter pets
DESCRIPTION:  \n  \nCLICK ON THE IMAGE BELOW FOR MORE INFORMATION AND REGISTRATION FORM!
URL:https://yourspca.org/events-calendar/tale-for-two-kids-shelter-pets-4/
LOCATION:NY
END:VEVENT
BEGIN:VEVENT
DTSTART;VALUE=DATE:20200201
DTEND;VALUE=DATE:20200215
DTSTAMP:20260421T212634
CREATED:20200129T225840Z
LAST-MODIFIED:20200129T225857Z
UID:5848-1580515200-1581724799@yourspca.org
SUMMARY:Lularoe Cause for Paws
DESCRIPTION:From February 1 – 14\, a portion of each item purchase will be donated back to the SPCA.
URL:https://yourspca.org/events-calendar/lularoe-cause-for-paws/
LOCATION:NY
END:VEVENT
END:VCALENDAR